BEGIN:VCALENDAR
VERSION:2.0
PRODID:-//TYPO3/NONSGML News system (news)//EN
BEGIN:VEVENT
UID:news-129@www.intosai.org
DTSTAMP:20191204T084839Z
DTSTART:20191202
DTEND:20191207
SUMMARY:12th FIPP Meeting
DESCRIPTION:Organizer: FIPP\n\nPlace: Oslo, Norway\n\n12th Meeting of the Forum for INTOSAI Professional Pronouncements
visit&amp;nbsp;https://www.intosaifipp.org/about-fipp/
Info: https://www.intosai.org/news/fipp-meeting-oslo
LOCATION:Oslo, Norway

END:VEVENT
END:VCALENDAR
