BEGIN:VCALENDAR
VERSION:2.0
PRODID:-//TYPO3/NONSGML News system (news)//EN
BEGIN:VEVENT
UID:news-151@www.intosai.org
DTSTAMP:20210908T101707Z
DTSTART:20211201
DTEND:20211204
SUMMARY:XXX OLACEFS General Assembly
DESCRIPTION:Organizer: OLACEFS\n\nPlace: Cartagena, Colombia\n\n
LOCATION:Cartagena, Colombia

END:VEVENT
END:VCALENDAR
