BEGIN:VCALENDAR
VERSION:2.0
PRODID:-//TYPO3/NONSGML News system (news)//EN
BEGIN:VEVENT
UID:news-162@www.intosai.org
DTSTAMP:20200310T115502Z
DTSTART:20200324
DTEND:20200327
SUMMARY:— postponed — FAAS annual meeting
DESCRIPTION:Organizer: FAAS\n\nPlace: Kampala, Uganda\n\nAnnual meeting of the Financial Audit and Accounting Subcommittee
LOCATION:Kampala, Uganda

END:VEVENT
END:VCALENDAR
