BEGIN:VCALENDAR
VERSION:2.0
PRODID:-//TYPO3/NONSGML News system (news)//EN
BEGIN:VEVENT
UID:news-169@www.intosai.org
DTSTAMP:20200310T120132Z
DTSTART:20200324
DTEND:20200327
SUMMARY:— postponed — 4th Meeting of the Working Group on Big Data
DESCRIPTION:Organizer: WGBD\n\nPlace: \n\n.... postponed until further notice ....
LOCATION:

END:VEVENT
END:VCALENDAR
