BEGIN:VCALENDAR
VERSION:2.0
PRODID:-//TYPO3/NONSGML News system (news)//EN
BEGIN:VEVENT
UID:news-195@www.intosai.org
DTSTAMP:20200701T143537Z
DTSTART:20200915

SUMMARY:CBC Steering Committee meeting
DESCRIPTION:Organizer: CBC\n\nPlace: virtual meeting\n\n
LOCATION:virtual meeting

END:VEVENT
END:VCALENDAR
