BEGIN:VCALENDAR
VERSION:2.0
PRODID:-//TYPO3/NONSGML News system (news)//EN
BEGIN:VEVENT
UID:news-206@www.intosai.org
DTSTAMP:20200723T112819Z
DTSTART:20201006

SUMMARY:PSC – 17th meeting of the Steering Committee
DESCRIPTION:Organizer: PSC SC\n\nPlace: virtual meeting\n\n
LOCATION:virtual meeting

END:VEVENT
END:VCALENDAR
