BEGIN:VCALENDAR
VERSION:2.0
PRODID:-//TYPO3/NONSGML News system (news)//EN
BEGIN:VEVENT
UID:news-217@www.intosai.org
DTSTAMP:20200316T213938Z
DTSTART:20200324

SUMMARY:IDI Board Videoconference
DESCRIPTION:Organizer: IDI\n\nPlace: Oslo, Norway\n\n
LOCATION:Oslo, Norway

END:VEVENT
END:VCALENDAR
