BEGIN:VCALENDAR
VERSION:2.0
PRODID:-//TYPO3/NONSGML News system (news)//EN
BEGIN:VEVENT
UID:news-223@www.intosai.org
DTSTAMP:20201118T090043Z
DTSTART:20201125

SUMMARY:IDI Board Meeting
DESCRIPTION:Organizer: IDI\n\nPlace: virtual meeting\n\n
LOCATION:virtual meeting

END:VEVENT
END:VCALENDAR
