BEGIN:VCALENDAR
VERSION:2.0
PRODID:-//TYPO3/NONSGML News system (news)//EN
BEGIN:VEVENT
UID:news-229@www.intosai.org
DTSTAMP:20200701T143759Z
DTSTART:20200909
DTEND:20200912
SUMMARY:IX EUROSAI-OLACEFS Joint Conference
DESCRIPTION:Organizer: EUROSAI-OLACEFS\n\nPlace: virtual meeting\n\n
LOCATION:virtual meeting

END:VEVENT
END:VCALENDAR
