BEGIN:VCALENDAR
VERSION:2.0
PRODID:-//TYPO3/NONSGML News system (news)//EN
BEGIN:VEVENT
UID:news-242@www.intosai.org
DTSTAMP:20210719T093300Z
DTSTART:20200921
DTEND:20200923
SUMMARY:12th Meeting of the KSC Steering Committee
DESCRIPTION:Organizer: KSC SC\n\nPlace: virtual meeting\n\n1st VC – Eastern focus: 21st September 2020\n Time: 14.30 hours New Delhi | 11.00 hours Paris, Helsinki, Cairo, Oslo, Vienna, Johannesburg | 12.00 hours Moscow, Kampala | 13.00 hours Abu Dhabi | 17.00 hours Beijing, Manila, Kuala Lumpur
2nd VC – Western focus: 22nd September 2020\n Time: 18.30 hours New Delhi | 08.00 hours Mexico city | 09.00 hours Washington DC | 10.00 hours Brasilia
LOCATION:virtual meeting

END:VEVENT
END:VCALENDAR
