BEGIN:VCALENDAR
VERSION:2.0
PRODID:-//TYPO3/NONSGML News system (news)//EN
BEGIN:VEVENT
UID:news-253@www.intosai.org
DTSTAMP:20200728T073046Z
DTSTART:20200826
DTEND:20200828
SUMMARY:Meeting of the Working Group on Public Debt
DESCRIPTION:Organizer: WGPD\n\nPlace: virtual meeting\n\nDue to the huge time differences among member countries, the meeting shall be held in two batches. The first batch is scheduled on August&amp;nbsp;26,&amp;nbsp;2020 at 12NN (PH Local time) while the second batch is scheduled on August&amp;nbsp;27,&amp;nbsp;2020 at 7PM (PH Local Time).
Batch arrangement


LOCATION:virtual meeting

END:VEVENT
END:VCALENDAR
