BEGIN:VCALENDAR
VERSION:2.0
PRODID:-//TYPO3/NONSGML News system (news)//EN
BEGIN:VEVENT
UID:news-259@www.intosai.org
DTSTAMP:20200406T075830Z
DTSTART:20200511
DTEND:20200513
SUMMARY:— postponed — 17th meeting of the Compliance Audit Subcommittee
DESCRIPTION:Organizer: CAS\n\nPlace: Azerbaijan\n\n
LOCATION:Azerbaijan

END:VEVENT
END:VCALENDAR
