BEGIN:VCALENDAR
VERSION:2.0
PRODID:-//TYPO3/NONSGML News system (news)//EN
BEGIN:VEVENT
UID:news-266@www.intosai.org
DTSTAMP:20200923T123957Z
DTSTART:20200608
DTEND:20200623
SUMMARY:FIPP web-meetings – 3 sessions June 2020
DESCRIPTION:Organizer: FIPP\n\nPlace: virtual meeting\n\n3 sessions (8 June / 15 June / 22 June 2020)
Minutes
LOCATION:virtual meeting

END:VEVENT
END:VCALENDAR
