BEGIN:VCALENDAR
VERSION:2.0
PRODID:-//TYPO3/NONSGML News system (news)//EN
BEGIN:VEVENT
UID:news-27@www.intosai.org
DTSTAMP:20190515T095249Z
DTSTART:20190527
DTEND:20190529
SUMMARY:16th meeting of the Compliance Audit Subcommittee
DESCRIPTION:Organizer: CAS\n\nPlace: Lisbon, Portugal\n\n
LOCATION:Lisbon, Portugal


URL;VALUE=URI:www.intosai.org




END:VEVENT
END:VCALENDAR
