BEGIN:VCALENDAR
VERSION:2.0
PRODID:-//TYPO3/NONSGML News system (news)//EN
BEGIN:VEVENT
UID:news-278@www.intosai.org
DTSTAMP:20200131T123236Z
DTSTART:20200303
DTEND:20200305
SUMMARY:Meeting of the Subcommittee on Internal Control Standards
DESCRIPTION:Organizer: ICS\n\nPlace: Bucharest, Romania\n\n
LOCATION:Bucharest, Romania

END:VEVENT
END:VCALENDAR
