BEGIN:VCALENDAR
VERSION:2.0
PRODID:-//TYPO3/NONSGML News system (news)//EN
BEGIN:VEVENT
UID:news-284@www.intosai.org
DTSTAMP:20200313T083551Z
DTSTART:20200407
DTEND:20200409
SUMMARY:— postponed — 1st meeting of the Working Group on SDGs and Key Sustainable Development Indicators
DESCRIPTION:Organizer: WGSDG KSDI\n\nPlace: Minsk, Belarus\n\nThe new date of the meeting is planned to take place in the second half of 2020.
LOCATION:Minsk, Belarus

END:VEVENT
END:VCALENDAR
