BEGIN:VCALENDAR
VERSION:2.0
PRODID:-//TYPO3/NONSGML News system (news)//EN
BEGIN:VEVENT
UID:news-290@www.intosai.org
DTSTAMP:20210413T082300Z
DTSTART:20210520

SUMMARY:13th Meeting of the Working Group on Value and Benefits of SAIs
DESCRIPTION:Organizer: WGVBS\n\nPlace: virtual meeting\n\n
LOCATION:virtual meeting

END:VEVENT
END:VCALENDAR
