BEGIN:VCALENDAR
VERSION:2.0
PRODID:-//TYPO3/NONSGML News system (news)//EN
BEGIN:VEVENT
UID:news-297@www.intosai.org
DTSTAMP:20200406T075630Z
DTSTART:20200420
DTEND:20200422
SUMMARY:— postponed — 1st Meeting of the Working Group on Impact of Science and Technology on Auditing
DESCRIPTION:Organizer: WGISTA\n\nPlace: Abu Dhabi, United Arab Emirates\n\n
LOCATION:Abu Dhabi, United Arab Emirates

END:VEVENT
END:VCALENDAR
