BEGIN:VCALENDAR
VERSION:2.0
PRODID:-//TYPO3/NONSGML News system (news)//EN
BEGIN:VEVENT
UID:news-307@www.intosai.org
DTSTAMP:20210525T080802Z
DTSTART:20200929

SUMMARY:17th Meeting of the Policy, Finance and Administration Committee
DESCRIPTION:Organizer: PFAC\n\nPlace: virtual meeting\n\n
LOCATION:virtual meeting

END:VEVENT
END:VCALENDAR
