BEGIN:VCALENDAR
VERSION:2.0
PRODID:-//TYPO3/NONSGML News system (news)//EN
BEGIN:VEVENT
UID:news-318@www.intosai.org
DTSTAMP:20210212T103505Z
DTSTART:20210421
DTEND:20210423
SUMMARY:First International Scientific and Practical Conference
DESCRIPTION:Organizer: SAI Russian Federation\n\nPlace: virtual meeting\n\n 	First International Scientific and Practical Conference under the auspices of the INTOSAI Chair\n 	&amp;nbsp; 
LOCATION:virtual meeting

END:VEVENT
END:VCALENDAR
