BEGIN:VCALENDAR
VERSION:2.0
PRODID:-//TYPO3/NONSGML News system (news)//EN
BEGIN:VEVENT
UID:news-33@www.intosai.org
DTSTAMP:20191111T080645Z
DTSTART:20190923
DTEND:20190925
SUMMARY:72nd Meeting of the Governing Board of INTOSAI
DESCRIPTION:Organizer: INTOSAI\n\nPlace: Moscow, Russian Federation\n\nThe 72nd Governing Board meeting&amp;nbsp;will take place within the framework of INCOSAI XXIII, which will take place from September 23 – 29, 2019 in Moscow, Russian Federation.
for documents dowload, please login here
For further information please contact the General Secretariat of INTOSAI.
INTOSAI General Secretariat\n Austrian Court of Audit&amp;nbsp;(Rechnungshof Österreich)\n Dampfschiffstrasse 2\n 1031 Vienna\n Austria
&amp;nbsp;&amp;nbsp;+43 1 71171–8474\n  &amp;nbsp; +43 1 71171–8467
&amp;nbsp; &amp;nbsp; +43 1 718 09 69\n \n  &amp;nbsp; intosai@rechnungshof.gv.at
LOCATION:Moscow, Russian Federation

END:VEVENT
END:VCALENDAR
