BEGIN:VCALENDAR
VERSION:2.0
PRODID:-//TYPO3/NONSGML News system (news)//EN
BEGIN:VEVENT
UID:news-333@www.intosai.org
DTSTAMP:20200513T182432Z
DTSTART:20200512

SUMMARY:Virtual meeting — meeting of the Working Group on Financial Modernization and Regulatory
DESCRIPTION:Organizer: WGFMRR\n\nPlace: virtual\n\n 	Agenda 
LOCATION:virtual

END:VEVENT
END:VCALENDAR
