BEGIN:VCALENDAR
VERSION:2.0
PRODID:-//TYPO3/NONSGML News system (news)//EN
BEGIN:VEVENT
UID:news-341@www.intosai.org
DTSTAMP:20200701T142947Z
DTSTART:20200618

SUMMARY:Virtual IDI Board Meeting
DESCRIPTION:Organizer: IDI\n\nPlace: virtual meeting\n\n
LOCATION:virtual meeting

END:VEVENT
END:VCALENDAR
