BEGIN:VCALENDAR
VERSION:2.0
PRODID:-//TYPO3/NONSGML News system (news)//EN
BEGIN:VEVENT
UID:news-369@www.intosai.org
DTSTAMP:20200701T142715Z
DTSTART:20200603

SUMMARY:51st EUROSAI Governing Board Meeting
DESCRIPTION:Organizer: EUROSAI\n\nPlace: virtual meeting\n\n...&amp;nbsp;Governing Board members only ...
LOCATION:virtual meeting

END:VEVENT
END:VCALENDAR
