BEGIN:VCALENDAR
VERSION:2.0
PRODID:-//TYPO3/NONSGML News system (news)//EN
BEGIN:VEVENT
UID:news-375@www.intosai.org
DTSTAMP:20200915T143610Z
DTSTART:20200609

SUMMARY:Webcast/paneldiscussion
DESCRIPTION:Organizer: CBC\n\nPlace: digital event\n\nWebcast/paneldiscussion on SAI capacity, performance and relevance during and subsequent to COVID-19
LOCATION:digital event

END:VEVENT
END:VCALENDAR
