BEGIN:VCALENDAR
VERSION:2.0
PRODID:-//TYPO3/NONSGML News system (news)//EN
BEGIN:VEVENT
UID:news-376@www.intosai.org
DTSTAMP:20200528T091043Z
DTSTART:20200617

SUMMARY:SAI-Civil Society relationships
DESCRIPTION:Organizer: CBC\n\nPlace: digital event\n\n\n 17 June session East: SAI-Civil Society relationships in the interest of strengthened accountability and transparency\n 17 June session West: SAI-Civil Society relationships in the interest of strengthened accountability and transparency
LOCATION:digital event

END:VEVENT
END:VCALENDAR
