BEGIN:VCALENDAR
VERSION:2.0
PRODID:-//TYPO3/NONSGML News system (news)//EN
BEGIN:VEVENT
UID:news-377@www.intosai.org
DTSTAMP:20200701T143958Z
DTSTART:20201006
DTEND:20201008
SUMMARY:SAIs auditing of donor funds
DESCRIPTION:Organizer: CBC\n\nPlace: virtual meeting\n\n\n 6 October session East: SAIs auditing of donor funds\n 7 October session West: SAIs auditing of donor funds
LOCATION:virtual meeting

END:VEVENT
END:VCALENDAR
