BEGIN:VCALENDAR
VERSION:2.0
PRODID:-//TYPO3/NONSGML News system (news)//EN
BEGIN:VEVENT
UID:news-389@www.intosai.org
DTSTAMP:20200610T085306Z
DTSTART:20200622

SUMMARY:SCEI Expert-Group Kickoff-Meeting
DESCRIPTION:Organizer: SCEI Expert Group\n\nPlace: virtual meeting\n\nSCEI Expert Group on the Strategic role of SAIs in addressing the challenges posed by COVID-19 pandemic
Topic: Priorities of SAIs in the COVID-19 pandemic: audit themes, methods and techniques
LOCATION:virtual meeting

END:VEVENT
END:VCALENDAR
