BEGIN:VCALENDAR
VERSION:2.0
PRODID:-//TYPO3/NONSGML News system (news)//EN
BEGIN:VEVENT
UID:news-403@www.intosai.org
DTSTAMP:20200730T153411Z
DTSTART:20200729

SUMMARY:Meeting of the Working Group on Financial Modernization and Regulatory
DESCRIPTION:Organizer: WGFMRR\n\nPlace: virtual meeting\n\n 	Agenda 
LOCATION:virtual meeting

END:VEVENT
END:VCALENDAR
