BEGIN:VCALENDAR
VERSION:2.0
PRODID:-//TYPO3/NONSGML News system (news)//EN
BEGIN:VEVENT
UID:news-411@www.intosai.org
DTSTAMP:20200715T110950Z
DTSTART:20200723

SUMMARY:INTOSAI PFAC Initiative on the COVID-19 Pandemic
DESCRIPTION:Organizer: PFAC\n\nPlace: virtual meeting\n\n
LOCATION:virtual meeting

END:VEVENT
END:VCALENDAR
