BEGIN:VCALENDAR
VERSION:2.0
PRODID:-//TYPO3/NONSGML News system (news)//EN
BEGIN:VEVENT
UID:news-440@www.intosai.org
DTSTAMP:20200915T130845Z
DTSTART:20200724

SUMMARY:Second webcast of SCEI COVID-19 Expert Group
DESCRIPTION:Organizer: SCEI Expert Group\n\nPlace: virtual meeting\n\nWe are pleased to announce that on July 24, 2020, at 12 p.m. UTC the Accounts Chamber of the Russian Federation is holding the second webcast of SCEI Expert Group on the Strategic role of SAIs in addressing the challenges posed by COVID-19 pandemic.
The discussion will be dedicated to &quot;Remote auditing: technological challenges and solutions&quot;.
Speakers from SAIs of UK, Indonesia, Peru and Russia will share their experience in arranging their audit work from home and will mention what challenges they faced, as well as what solutions they came up with.
Detailed Agenda will follow after registration.
We invite you all to join and address your questions to our respected speakers. Please register here  before&amp;nbsp;July&amp;nbsp;23,&amp;nbsp;2020.
Feel free to contact SCEI Secretariat in case of any questions scei@ach.gov.ru.
LOCATION:virtual meeting

END:VEVENT
END:VCALENDAR
