BEGIN:VCALENDAR
VERSION:2.0
PRODID:-//TYPO3/NONSGML News system (news)//EN
BEGIN:VEVENT
UID:news-466@www.intosai.org
DTSTAMP:20200812T080319Z
DTSTART:20200916

SUMMARY:1st Meeting of the Working Group on Impact of Science and Technology on Auditing
DESCRIPTION:Organizer: WGISTA\n\nPlace: virtual meeting\n\n
LOCATION:virtual meeting

END:VEVENT
END:VCALENDAR
