BEGIN:VCALENDAR
VERSION:2.0
PRODID:-//TYPO3/NONSGML News system (news)//EN
BEGIN:VEVENT
UID:news-47@www.intosai.org
DTSTAMP:20191114T162608Z
DTSTART:20190925
DTEND:20190928
SUMMARY:XXIII INCOSAI
DESCRIPTION:Organizer: INTOSAI\n\nPlace: Moscow, Russian Federation\n\n
The SAI of the&amp;nbsp;Russian Federation&amp;nbsp;is host of the next INTOSAI Congress (XXIII INCOSAI). XXIII INCOSAI take place in Moscow from&amp;nbsp;September 25-27, 2019.
 &amp;nbsp; https://incosai2019.ru/en/&amp;nbsp;&amp;nbsp;&amp;nbsp;&amp;nbsp;&amp;nbsp;&amp;nbsp;&amp;nbsp;&amp;nbsp;&amp;nbsp;&amp;nbsp;&amp;nbsp;&amp;nbsp;&amp;nbsp;&amp;nbsp;&amp;nbsp;&amp;nbsp;&amp;nbsp;&amp;nbsp;&amp;nbsp;&amp;nbsp;&amp;nbsp;  &amp;nbsp; XXIII INCOSAI preparation
Agenda
 	 		 			Congress Theme I 		 		 			Information technologies for the development of the public administration 		 		 			 			Sub-theme I.1\n 			Digital data application for public administration development 			 		 		 			 			Sub-theme I.2\n 			The place and the role of big data in the activity of Supreme Audit Institutions 			 		 		 			Discussion paper on Theme I 		 	 

 	 		 			Congress Theme II 		 		 			The role of the Supreme Audit Institutions in the achievement of the national priorities and goals 		 		 			 			Sub-theme I.1\n 			Strategic Audit: evaluation of goals, impacts and associated risks of governmental programs and policies 			 		 		 			 			Sub-theme I.2\n 			Foresight and analytics in SAI: environmental and social dimensions of Sustainable Development 			 		 		 			Discussion paper on Theme II 		 	 
LOCATION:Moscow, Russian Federation

END:VEVENT
END:VCALENDAR
