BEGIN:VCALENDAR
VERSION:2.0
PRODID:-//TYPO3/NONSGML News system (news)//EN
BEGIN:VEVENT
UID:news-472@www.intosai.org
DTSTAMP:20200812T075511Z
DTSTART:20200916
DTEND:20200918
SUMMARY:13th INTOSAI–Donor Cooperation Steering Committee
DESCRIPTION:Organizer: IDSC\n\nPlace: virtual meeting\n\nCOVID–19 pandemic
West&amp;nbsp;Session:&amp;nbsp;16th&amp;nbsp;September&amp;nbsp;\n Time:&amp;nbsp;0800&amp;nbsp;am&amp;nbsp;USA&amp;nbsp;(GMT–4)\n Session available&amp;nbsp;for&amp;nbsp;OLACEFS, CAROSAI, EUROSAI, AFROSAI, CREFIAF, AFROSAI–E
East&amp;nbsp;Session:&amp;nbsp;17th&amp;nbsp;September&amp;nbsp;\n Time:&amp;nbsp;0800&amp;nbsp;am&amp;nbsp;CET (GMT+2)\n Session available for&amp;nbsp;AFROSAI,&amp;nbsp;AFROSAI-E, CREFIAF, ARABOSAI,&amp;nbsp;ASOSAI,&amp;nbsp;EUROSAI,&amp;nbsp;PASAI
LOCATION:virtual meeting

END:VEVENT
END:VCALENDAR
