BEGIN:VCALENDAR
VERSION:2.0
PRODID:-//TYPO3/NONSGML News system (news)//EN
BEGIN:VEVENT
UID:news-49@www.intosai.org
DTSTAMP:20190826T142045Z
DTSTART:20191016
DTEND:20191019
SUMMARY:OLACEFS General Assembly
DESCRIPTION:Organizer: OLACEFS\n\nPlace: El Salvador, El Salvador\n\n
LOCATION:El Salvador, El Salvador

END:VEVENT
END:VCALENDAR
