BEGIN:VCALENDAR
VERSION:2.0
PRODID:-//TYPO3/NONSGML News system (news)//EN
BEGIN:VEVENT
UID:news-50@www.intosai.org
DTSTAMP:20191128T070523Z
DTSTART:20191112
DTEND:20191115
SUMMARY:13th ARABOSAI General Assembly
DESCRIPTION:Organizer: ARABOSAI\n\nPlace: Doha, Qatar\n\n
LOCATION:Doha, Qatar

END:VEVENT
END:VCALENDAR
