BEGIN:VCALENDAR
VERSION:2.0
PRODID:-//TYPO3/NONSGML News system (news)//EN
BEGIN:VEVENT
UID:news-51@www.intosai.org
DTSTAMP:20191128T093008Z
DTSTART:20191127
DTEND:20191128
SUMMARY:IDI Board Meeting
DESCRIPTION:Organizer: IDI\n\nPlace: Oslo, Norway\n\n
LOCATION:Oslo, Norway

END:VEVENT
END:VCALENDAR
