BEGIN:VCALENDAR
VERSION:2.0
PRODID:-//TYPO3/NONSGML News system (news)//EN
BEGIN:VEVENT
UID:news-513@www.intosai.org
DTSTAMP:20200812T073835Z
DTSTART:20200924

SUMMARY:4th Meeting of the INTOSAI Working Group on Big Data
DESCRIPTION:Organizer: WGBD\n\nPlace: virtual meeting\n\n13:00–16:00 UTC/GMT
LOCATION:virtual meeting

END:VEVENT
END:VCALENDAR
