BEGIN:VCALENDAR
VERSION:2.0
PRODID:-//TYPO3/NONSGML News system (news)//EN
BEGIN:VEVENT
UID:news-52@www.intosai.org
DTSTAMP:20220414T131031Z
DTSTART:20210414
DTEND:20210416
SUMMARY:53rd Governing Board meeting – XI EUROSAI Congress– 54th Governing Board meeting
DESCRIPTION:Organizer: EUROSAI\n\nPlace: virtual meeting\n\n14/04/21
 	09:30 to 12:00 CET — 53rd Governing Board Meeting 	14:30 to 17:00 CET – XI Congress (the event will consist of a Plenary Session) 
15/04/21
 	09:30 to 12:00 CET — 54th Governing Board Meeting 
LOCATION:virtual meeting

END:VEVENT
END:VCALENDAR
