BEGIN:VCALENDAR
VERSION:2.0
PRODID:-//TYPO3/NONSGML News system (news)//EN
BEGIN:VEVENT
UID:news-53@www.intosai.org
DTSTAMP:20190826T143447Z
DTSTART:20191104
DTEND:20191108
SUMMARY:YES - Young EUROSAI Conference
DESCRIPTION:Organizer: EUROSAI\n\nPlace: London, United Kingdom\n\n
LOCATION:London, United Kingdom

END:VEVENT
END:VCALENDAR
