BEGIN:VCALENDAR
VERSION:2.0
PRODID:-//TYPO3/NONSGML News system (news)//EN
BEGIN:VEVENT
UID:news-535@www.intosai.org
DTSTAMP:20200902T084839Z
DTSTART:20200922

SUMMARY:Meeting of the Financial Audit and Accounting Subcommittee
DESCRIPTION:Organizer: FAAS\n\nPlace: virtual meeting\n\n 	Meeting #1 - Tuesday September 22, 2020 - 5pm to 6:30pm Abu Dhabi time 	Meeting #2 - Tuesday November 17, 2020 - 5pm to 6:30pm Abu Dhabi time 
LOCATION:virtual meeting

END:VEVENT
END:VCALENDAR
