BEGIN:VCALENDAR
VERSION:2.0
PRODID:-//TYPO3/NONSGML News system (news)//EN
BEGIN:VEVENT
UID:news-54@www.intosai.org
DTSTAMP:20190826T143843Z
DTSTART:20190813
DTEND:20190817
SUMMARY:22nd PASAI Congress
DESCRIPTION:Organizer: PASAI\n\nPlace: Nadi, Fiji\n\n
LOCATION:Nadi, Fiji

END:VEVENT
END:VCALENDAR
