BEGIN:VCALENDAR
VERSION:2.0
PRODID:-//TYPO3/NONSGML News system (news)//EN
BEGIN:VEVENT
UID:news-55@www.intosai.org
DTSTAMP:20190826T144430Z
DTSTART:20190723
DTEND:20190725
SUMMARY:XI CAROSAI Congress
DESCRIPTION:Organizer: CAROSAI\n\nPlace: Georgetown, Guyana\n\n
LOCATION:Georgetown, Guyana

END:VEVENT
END:VCALENDAR
