BEGIN:VCALENDAR
VERSION:2.0
PRODID:-//TYPO3/NONSGML News system (news)//EN
BEGIN:VEVENT
UID:news-553@www.intosai.org
DTSTAMP:20201112T131255Z
DTSTART:20201124

SUMMARY:14th Meeting of the Working Group on the Fight Against Corruption and Money Laundering
DESCRIPTION:Organizer: WGFACML\n\nPlace: virtual meeting\n\n
LOCATION:virtual meeting

END:VEVENT
END:VCALENDAR
