BEGIN:VCALENDAR
VERSION:2.0
PRODID:-//TYPO3/NONSGML News system (news)//EN
BEGIN:VEVENT
UID:news-561@www.intosai.org
DTSTAMP:20200909T101616Z
DTSTART:20200922

SUMMARY:IDI&#039;s Gender Equality Strategy – Online Stakeholder Consultations
DESCRIPTION:Organizer: IDI\n\nPlace: virtual meeting\n\n 	detailed programme 	draft of the Gender Equality Strategy 
LOCATION:virtual meeting

END:VEVENT
END:VCALENDAR
