BEGIN:VCALENDAR
VERSION:2.0
PRODID:-//TYPO3/NONSGML News system (news)//EN
BEGIN:VEVENT
UID:news-562@www.intosai.org
DTSTAMP:20201007T110534Z
DTSTART:20200917

SUMMARY:Third Webinar of SCEI COVID-19 Expert Group
DESCRIPTION:Organizer: SCEI Expert Group\n\nPlace: virtual meeting\n\n

The Accounts Chamber of the Russian Federation is pleased&amp;nbsp;to invite you to participate in the third webinar of&amp;nbsp;SCEI&amp;nbsp;Expert Group&amp;nbsp;on the&amp;nbsp;Strategic role of&amp;nbsp;SAIs&amp;nbsp;in addressing the challenges posed by COVID-19 pandemic.
The discussion will focus on &quot;Openness of SAIs and Ensuring Inclusiveness in Emergency Conditions&quot;.
Speakers from SAIs of Brazil, USA, Russia and IDI will share their experience and vision on SAI’s transparency in relation to the COVID-19 activities, demonstration of SAI’s value and benefits while&amp;nbsp;dealing with the recent crisis, ensuring openness of national governments, ways of communication with public and stakeholders’ engagement in emergency situation, how SAIs can contribute to emergency response based on “leaving no one behind” principles and many more.
The webcast will be held on&amp;nbsp;September 17, 2020, at 12:00&amp;nbsp;p.m. UTC&amp;nbsp;via the Blackboard Collaborate platform.
All of you are welcomed to participate, however, due to limited connections, please register up to 5 participants from your SAI&amp;nbsp;no later than&amp;nbsp;September 16, 2020.
To register please click here.
Detailed Agenda will follow after registration.
Feel free to contact SCEI Secretariat in case of any questions scei@ach.gov.ru.
LOCATION:virtual meeting

END:VEVENT
END:VCALENDAR
