BEGIN:VCALENDAR
VERSION:2.0
PRODID:-//TYPO3/NONSGML News system (news)//EN
BEGIN:VEVENT
UID:news-568@www.intosai.org
DTSTAMP:20200911T115409Z
DTSTART:20200929

SUMMARY:Meeting of the Working Group on Financial Modernization and Regulatory
DESCRIPTION:Organizer: WGFMRR\n\nPlace: virtual meeting\n\n 	Meeting information 
LOCATION:virtual meeting

END:VEVENT
END:VCALENDAR
