BEGIN:VCALENDAR
VERSION:2.0
PRODID:-//TYPO3/NONSGML News system (news)//EN
BEGIN:VEVENT
UID:news-585@www.intosai.org
DTSTAMP:20200923T125032Z
DTSTART:20201005
DTEND:20201010
SUMMARY:FIPP web-meetings – 3 sessions October 2020
DESCRIPTION:Organizer: FIPP\n\nPlace: virtual meeting\n\nFIPP October-meetings:
 	5 October 2020 	7 October 2020 	9 October 2020 
LOCATION:virtual meeting

END:VEVENT
END:VCALENDAR
