BEGIN:VCALENDAR
VERSION:2.0
PRODID:-//TYPO3/NONSGML News system (news)//EN
BEGIN:VEVENT
UID:news-586@www.intosai.org
DTSTAMP:20200923T125412Z
DTSTART:20201124
DTEND:20201128
SUMMARY:FIPP web-meetings – 3 sessions November 2020
DESCRIPTION:Organizer: FIPP\n\nPlace: virtual meeting\n\nFIPP November-meetings:
 	24 November 2020 	26 November 2020 	27 November 2020 
LOCATION:virtual meeting

END:VEVENT
END:VCALENDAR
