BEGIN:VCALENDAR
VERSION:2.0
PRODID:-//TYPO3/NONSGML News system (news)//EN
BEGIN:VEVENT
UID:news-606@www.intosai.org
DTSTAMP:20201006T133802Z
DTSTART:20201112

SUMMARY:52nd EUROSAI Governing Board Meeting
DESCRIPTION:Organizer: EUROSAI\n\nPlace: virtual meeting\n\n\n ...&amp;nbsp;the online 52nd GB Meeting will be held on 12 November,&amp;nbsp;2020 starting&amp;nbsp;at 09:30 CET ...
LOCATION:virtual meeting

END:VEVENT
END:VCALENDAR
